BEGIN:VCALENDAR
VERSION:2.0
PRODID:-//Nieds Hotel Band - ECPv6.15.13.1//NONSGML v1.0//EN
CALSCALE:GREGORIAN
METHOD:PUBLISH
X-ORIGINAL-URL:https://niedshotelband.com
X-WR-CALDESC:Events for Nieds Hotel Band
REFRESH-INTERVAL;VALUE=DURATION:PT1H
X-Robots-Tag:noindex
X-PUBLISHED-TTL:PT1H
BEGIN:VTIMEZONE
TZID:America/New_York
BEGIN:DAYLIGHT
TZOFFSETFROM:-0500
TZOFFSETTO:-0400
TZNAME:EDT
DTSTART:20250309T070000
END:DAYLIGHT
BEGIN:STANDARD
TZOFFSETFROM:-0400
TZOFFSETTO:-0500
TZNAME:EST
DTSTART:20251102T060000
END:STANDARD
BEGIN:DAYLIGHT
TZOFFSETFROM:-0500
TZOFFSETTO:-0400
TZNAME:EDT
DTSTART:20260308T070000
END:DAYLIGHT
BEGIN:STANDARD
TZOFFSETFROM:-0400
TZOFFSETTO:-0500
TZNAME:EST
DTSTART:20261101T060000
END:STANDARD
BEGIN:DAYLIGHT
TZOFFSETFROM:-0500
TZOFFSETTO:-0400
TZNAME:EDT
DTSTART:20270314T070000
END:DAYLIGHT
BEGIN:STANDARD
TZOFFSETFROM:-0400
TZOFFSETTO:-0500
TZNAME:EST
DTSTART:20271107T060000
END:STANDARD
END:VTIMEZONE
BEGIN:VEVENT
DTSTART;TZID=America/New_York:20260704T180000
DTEND;TZID=America/New_York:20260704T190000
DTSTAMP:20260421T055945
CREATED:20260123T235556Z
LAST-MODIFIED:20260318T154121Z
UID:7774-1783188000-1783191600@niedshotelband.com
SUMMARY:Grandview Park
DESCRIPTION:
URL:https://niedshotelband.com/event/grandview-park/
LOCATION:Grandview Park\, 499 Bailey Ave.\, Pittsburgh\, PA\, 15203
ATTACH;FMTTYPE=image/png:https://niedshotelband.com/wp-content/uploads/2026/01/file_00000000fe84722fab55661f9f5c1a05.png
END:VEVENT
END:VCALENDAR