BEGIN:VCALENDAR
VERSION:2.0
PRODID:-//Nieds Hotel Band - ECPv6.15.13.1//NONSGML v1.0//EN
CALSCALE:GREGORIAN
METHOD:PUBLISH
X-WR-CALNAME:Nieds Hotel Band
X-ORIGINAL-URL:https://niedshotelband.com
X-WR-CALDESC:Events for Nieds Hotel Band
REFRESH-INTERVAL;VALUE=DURATION:PT1H
X-Robots-Tag:noindex
X-PUBLISHED-TTL:PT1H
BEGIN:VTIMEZONE
TZID:America/New_York
BEGIN:DAYLIGHT
TZOFFSETFROM:-0500
TZOFFSETTO:-0400
TZNAME:EDT
DTSTART:20250309T070000
END:DAYLIGHT
BEGIN:STANDARD
TZOFFSETFROM:-0400
TZOFFSETTO:-0500
TZNAME:EST
DTSTART:20251102T060000
END:STANDARD
BEGIN:DAYLIGHT
TZOFFSETFROM:-0500
TZOFFSETTO:-0400
TZNAME:EDT
DTSTART:20260308T070000
END:DAYLIGHT
BEGIN:STANDARD
TZOFFSETFROM:-0400
TZOFFSETTO:-0500
TZNAME:EST
DTSTART:20261101T060000
END:STANDARD
BEGIN:DAYLIGHT
TZOFFSETFROM:-0500
TZOFFSETTO:-0400
TZNAME:EDT
DTSTART:20270314T070000
END:DAYLIGHT
BEGIN:STANDARD
TZOFFSETFROM:-0400
TZOFFSETTO:-0500
TZNAME:EST
DTSTART:20271107T060000
END:STANDARD
END:VTIMEZONE
BEGIN:VEVENT
DTSTART;TZID=America/New_York:20261114T190000
DTEND;TZID=America/New_York:20261114T220000
DTSTAMP:20260421T123631
CREATED:20260304T002912Z
LAST-MODIFIED:20260403T155612Z
UID:7788-1794682800-1794693600@niedshotelband.com
SUMMARY:Marconi Club
DESCRIPTION:Vandergrift Library Benefit Concert
URL:https://niedshotelband.com/event/vandergrift-library/
LOCATION:Marconi Club\, 135 River Ave\, Leechburg\, PA\, 15656
END:VEVENT
END:VCALENDAR