BEGIN:VCALENDAR
VERSION:2.0
PRODID:-//Nieds Hotel Band - ECPv6.15.13.1//NONSGML v1.0//EN
CALSCALE:GREGORIAN
METHOD:PUBLISH
X-WR-CALNAME:Nieds Hotel Band
X-ORIGINAL-URL:https://niedshotelband.com
X-WR-CALDESC:Events for Nieds Hotel Band
REFRESH-INTERVAL;VALUE=DURATION:PT1H
X-Robots-Tag:noindex
X-PUBLISHED-TTL:PT1H
BEGIN:VTIMEZONE
TZID:America/New_York
BEGIN:DAYLIGHT
TZOFFSETFROM:-0500
TZOFFSETTO:-0400
TZNAME:EDT
DTSTART:20250309T070000
END:DAYLIGHT
BEGIN:STANDARD
TZOFFSETFROM:-0400
TZOFFSETTO:-0500
TZNAME:EST
DTSTART:20251102T060000
END:STANDARD
BEGIN:DAYLIGHT
TZOFFSETFROM:-0500
TZOFFSETTO:-0400
TZNAME:EDT
DTSTART:20260308T070000
END:DAYLIGHT
BEGIN:STANDARD
TZOFFSETFROM:-0400
TZOFFSETTO:-0500
TZNAME:EST
DTSTART:20261101T060000
END:STANDARD
BEGIN:DAYLIGHT
TZOFFSETFROM:-0500
TZOFFSETTO:-0400
TZNAME:EDT
DTSTART:20270314T070000
END:DAYLIGHT
BEGIN:STANDARD
TZOFFSETFROM:-0400
TZOFFSETTO:-0500
TZNAME:EST
DTSTART:20271107T060000
END:STANDARD
END:VTIMEZONE
BEGIN:VEVENT
DTSTART;TZID=America/New_York:20260613T130000
DTEND;TZID=America/New_York:20260613T160000
DTSTAMP:20260419T204231
CREATED:20260123T235042Z
LAST-MODIFIED:20260318T153544Z
UID:7772-1781355600-1781366400@niedshotelband.com
SUMMARY:Narcisi Winery
DESCRIPTION:
URL:https://niedshotelband.com/event/narcisi-winery/
LOCATION:Narcisi Winery\, 4578 gibsonia road\, Gibsonia\, PA\, 15044\, United States
ATTACH;FMTTYPE=image/png:https://niedshotelband.com/wp-content/uploads/2026/01/file_00000000742871fda562804c8ddec75d.png
END:VEVENT
BEGIN:VEVENT
DTSTART;TZID=America/New_York:20260607T140000
DTEND;TZID=America/New_York:20260607T170000
DTSTAMP:20260419T204231
CREATED:20260108T191949Z
LAST-MODIFIED:20260318T150024Z
UID:7749-1780840800-1780851600@niedshotelband.com
SUMMARY:The Oaks Theater
DESCRIPTION:
URL:https://niedshotelband.com/event/the-oaks-theater-2/
LOCATION:The Oaks Theater\, 310 Allegheny Blvd.\, Oakmont\, PA\, 15139\, United States
ATTACH;FMTTYPE=image/png:https://niedshotelband.com/wp-content/uploads/2026/01/file_00000000f18871fd920f6b79eb67687b.png
END:VEVENT
BEGIN:VEVENT
DTSTART;TZID=America/New_York:20260529T193000
DTEND;TZID=America/New_York:20260529T223000
DTSTAMP:20260419T204231
CREATED:20260310T201254Z
LAST-MODIFIED:20260318T152813Z
UID:7795-1780083000-1780093800@niedshotelband.com
SUMMARY:The Oaks Theater
DESCRIPTION:GET TICKETS HERE – https://www.showclix.com/event/a-penn-hills-rock-n-roll-reunion
URL:https://niedshotelband.com/event/the-oaks-theater-3/
LOCATION:The Oaks Theater\, 310 Allegheny Blvd.\, Oakmont\, PA\, 15139\, United States
ATTACH;FMTTYPE=image/jpeg:https://niedshotelband.com/wp-content/uploads/2026/03/nhb-5-29-26-Penn-Hills-Reunion-at-Oaks-square.jpg
END:VEVENT
BEGIN:VEVENT
DTSTART;TZID=America/New_York:20260425T183000
DTEND;TZID=America/New_York:20260425T230000
DTSTAMP:20260419T204231
CREATED:20251017T144312Z
LAST-MODIFIED:20260417T225647Z
UID:7578-1777141800-1777158000@niedshotelband.com
SUMMARY:Moondogs
DESCRIPTION:
URL:https://niedshotelband.com/event/moondogs/
LOCATION:Moondogs\, 378 Freeport Rd.\, Blawnox\, PA\, 15238\, United States
ATTACH;FMTTYPE=image/jpeg:https://niedshotelband.com/wp-content/uploads/2025/10/IMG_3938.jpeg
END:VEVENT
END:VCALENDAR